BEGIN:VCALENDAR
VERSION:2.0
PRODID:-//Quintessential - ECPv6.15.20//NONSGML v1.0//EN
CALSCALE:GREGORIAN
METHOD:PUBLISH
X-ORIGINAL-URL:https://www.quintessentialwines.com
X-WR-CALDESC:Events for Quintessential
REFRESH-INTERVAL;VALUE=DURATION:PT1H
X-Robots-Tag:noindex
X-PUBLISHED-TTL:PT1H
BEGIN:VTIMEZONE
TZID:America/New_York
BEGIN:DAYLIGHT
TZOFFSETFROM:-0500
TZOFFSETTO:-0400
TZNAME:EDT
DTSTART:20250309T070000
END:DAYLIGHT
BEGIN:STANDARD
TZOFFSETFROM:-0400
TZOFFSETTO:-0500
TZNAME:EST
DTSTART:20251102T060000
END:STANDARD
BEGIN:DAYLIGHT
TZOFFSETFROM:-0500
TZOFFSETTO:-0400
TZNAME:EDT
DTSTART:20260308T070000
END:DAYLIGHT
BEGIN:STANDARD
TZOFFSETFROM:-0400
TZOFFSETTO:-0500
TZNAME:EST
DTSTART:20261101T060000
END:STANDARD
BEGIN:DAYLIGHT
TZOFFSETFROM:-0500
TZOFFSETTO:-0400
TZNAME:EDT
DTSTART:20270314T070000
END:DAYLIGHT
BEGIN:STANDARD
TZOFFSETFROM:-0400
TZOFFSETTO:-0500
TZNAME:EST
DTSTART:20271107T060000
END:STANDARD
END:VTIMEZONE
BEGIN:VEVENT
DTSTART;TZID=America/New_York:20261124T150000
DTEND;TZID=America/New_York:20261124T180000
DTSTAMP:20260421T062838
CREATED:20260320T060907Z
LAST-MODIFIED:20260417T215849Z
UID:21360-1795532400-1795543200@www.quintessentialwines.com
SUMMARY:Thanksgiving Tasting @ Miron
DESCRIPTION:
URL:https://www.quintessentialwines.com/event/thanksgiving-tasting-miron/
LOCATION:Miron Wine & Spirits\, 15 Coral Ln\, Kingston\, 12401-6105\, UNITED STATES
END:VEVENT
BEGIN:VEVENT
DTSTART;TZID=America/New_York:20261219T120000
DTEND;TZID=America/New_York:20261219T160000
DTSTAMP:20260421T062838
CREATED:20260320T060908Z
LAST-MODIFIED:20260417T215850Z
UID:21361-1797681600-1797696000@www.quintessentialwines.com
SUMMARY:Holiday Wine Tasting @ Viscount W&L
DESCRIPTION:
URL:https://www.quintessentialwines.com/event/holiday-wine-tasting-viscount-wl/
LOCATION:Viscount Wines & Liquor\, 1173 US Highway 9\, Wappingers Falls\, 12590\, UNITED STATES
END:VEVENT
END:VCALENDAR