BEGIN:VCALENDAR
VERSION:2.0
PRODID:-//Quintessential - ECPv6.15.20//NONSGML v1.0//EN
CALSCALE:GREGORIAN
METHOD:PUBLISH
X-WR-CALNAME:Quintessential
X-ORIGINAL-URL:https://www.quintessentialwines.com
X-WR-CALDESC:Events for Quintessential
REFRESH-INTERVAL;VALUE=DURATION:PT1H
X-Robots-Tag:noindex
X-PUBLISHED-TTL:PT1H
BEGIN:VTIMEZONE
TZID:America/Los_Angeles
BEGIN:DAYLIGHT
TZOFFSETFROM:-0800
TZOFFSETTO:-0700
TZNAME:PDT
DTSTART:20250309T100000
END:DAYLIGHT
BEGIN:STANDARD
TZOFFSETFROM:-0700
TZOFFSETTO:-0800
TZNAME:PST
DTSTART:20251102T090000
END:STANDARD
BEGIN:DAYLIGHT
TZOFFSETFROM:-0800
TZOFFSETTO:-0700
TZNAME:PDT
DTSTART:20260308T100000
END:DAYLIGHT
BEGIN:STANDARD
TZOFFSETFROM:-0700
TZOFFSETTO:-0800
TZNAME:PST
DTSTART:20261101T090000
END:STANDARD
BEGIN:DAYLIGHT
TZOFFSETFROM:-0800
TZOFFSETTO:-0700
TZNAME:PDT
DTSTART:20270314T100000
END:DAYLIGHT
BEGIN:STANDARD
TZOFFSETFROM:-0700
TZOFFSETTO:-0800
TZNAME:PST
DTSTART:20271107T090000
END:STANDARD
END:VTIMEZONE
BEGIN:VTIMEZONE
TZID:America/New_York
BEGIN:DAYLIGHT
TZOFFSETFROM:-0500
TZOFFSETTO:-0400
TZNAME:EDT
DTSTART:20250309T070000
END:DAYLIGHT
BEGIN:STANDARD
TZOFFSETFROM:-0400
TZOFFSETTO:-0500
TZNAME:EST
DTSTART:20251102T060000
END:STANDARD
BEGIN:DAYLIGHT
TZOFFSETFROM:-0500
TZOFFSETTO:-0400
TZNAME:EDT
DTSTART:20260308T070000
END:DAYLIGHT
BEGIN:STANDARD
TZOFFSETFROM:-0400
TZOFFSETTO:-0500
TZNAME:EST
DTSTART:20261101T060000
END:STANDARD
BEGIN:DAYLIGHT
TZOFFSETFROM:-0500
TZOFFSETTO:-0400
TZNAME:EDT
DTSTART:20270314T070000
END:DAYLIGHT
BEGIN:STANDARD
TZOFFSETFROM:-0400
TZOFFSETTO:-0500
TZNAME:EST
DTSTART:20271107T060000
END:STANDARD
END:VTIMEZONE
BEGIN:VTIMEZONE
TZID:America/Chicago
BEGIN:DAYLIGHT
TZOFFSETFROM:-0600
TZOFFSETTO:-0500
TZNAME:CDT
DTSTART:20250309T080000
END:DAYLIGHT
BEGIN:STANDARD
TZOFFSETFROM:-0500
TZOFFSETTO:-0600
TZNAME:CST
DTSTART:20251102T070000
END:STANDARD
BEGIN:DAYLIGHT
TZOFFSETFROM:-0600
TZOFFSETTO:-0500
TZNAME:CDT
DTSTART:20260308T080000
END:DAYLIGHT
BEGIN:STANDARD
TZOFFSETFROM:-0500
TZOFFSETTO:-0600
TZNAME:CST
DTSTART:20261101T070000
END:STANDARD
BEGIN:DAYLIGHT
TZOFFSETFROM:-0600
TZOFFSETTO:-0500
TZNAME:CDT
DTSTART:20270314T080000
END:DAYLIGHT
BEGIN:STANDARD
TZOFFSETFROM:-0500
TZOFFSETTO:-0600
TZNAME:CST
DTSTART:20271107T070000
END:STANDARD
END:VTIMEZONE
BEGIN:VEVENT
DTSTART;TZID=America/Los_Angeles:20260423T170000
DTEND;TZID=America/Los_Angeles:20260423T210000
DTSTAMP:20260420T024120
CREATED:20260204T110456Z
LAST-MODIFIED:20260417T215833Z
UID:20637-1776963600-1776978000@www.quintessentialwines.com
SUMMARY:Downtown Campbell Wine Walk
DESCRIPTION:
URL:https://www.quintessentialwines.com/event/downtown-campbell-wine-walk/
END:VEVENT
BEGIN:VEVENT
DTSTART;TZID=America/Los_Angeles:20260425T110000
DTEND;TZID=America/Los_Angeles:20260425T143000
DTSTAMP:20260420T024120
CREATED:20260323T185019Z
LAST-MODIFIED:20260417T215836Z
UID:21702-1777114800-1777127400@www.quintessentialwines.com
SUMMARY:Wine Spectator Grand Tour with Quinta do Vallado
DESCRIPTION:
URL:https://www.quintessentialwines.com/event/wine-spectator-grand-tour-with-quinta-do-vallado/
LOCATION:Gaylord Pacific Resort & Convention Center – 1000 H Street
END:VEVENT
BEGIN:VEVENT
DTSTART;TZID=America/Los_Angeles:20260425T140000
DTEND;TZID=America/Los_Angeles:20260425T170000
DTSTAMP:20260420T024120
CREATED:20260125T075137Z
LAST-MODIFIED:20260417T215836Z
UID:20578-1777125600-1777136400@www.quintessentialwines.com
SUMMARY:Los Gatos Spring Wine Walk
DESCRIPTION:
URL:https://www.quintessentialwines.com/event/los-gatos-spring-wine-walk/
LOCATION:Downtown Los Gatos\, Downtown Los Gatos\, Los Gatos\, CA\, United States
END:VEVENT
BEGIN:VEVENT
DTSTART;TZID=America/New_York:20260425T140000
DTEND;TZID=America/New_York:20260425T170000
DTSTAMP:20260420T024120
CREATED:20260320T060858Z
LAST-MODIFIED:20260417T215834Z
UID:21351-1777125600-1777136400@www.quintessentialwines.com
SUMMARY:Tasting @ Arlington W&S
DESCRIPTION:
URL:https://www.quintessentialwines.com/event/tasting-arlington-ws/
LOCATION:Arlington Wine & Liquor\, 718 Dutchess Tpke\, Poughkeepsie\, 12603\, UNITED STATES
END:VEVENT
BEGIN:VEVENT
DTSTART;TZID=America/New_York:20260425T170000
DTEND;TZID=America/New_York:20260425T200000
DTSTAMP:20260420T024120
CREATED:20260406T165118Z
LAST-MODIFIED:20260417T215835Z
UID:22948-1777136400-1777147200@www.quintessentialwines.com
SUMMARY:In-Store Tadting: Ace
DESCRIPTION:
URL:https://www.quintessentialwines.com/event/in-store-tadting-ace/
LOCATION:85-10 Grand Ave
END:VEVENT
BEGIN:VEVENT
DTSTART;TZID=America/Los_Angeles:20260430T073000
DTEND;TZID=America/Los_Angeles:20260430T110000
DTSTAMP:20260420T024120
CREATED:20260304T220321Z
LAST-MODIFIED:20260417T215837Z
UID:21163-1777534200-1777546800@www.quintessentialwines.com
SUMMARY:Bevmo Santa Rosa
DESCRIPTION:
URL:https://www.quintessentialwines.com/event/bevmo-santa-rosa/
LOCATION:BevMo! – 2090 Santa Rosa Ave\, Santa Rosa\, CA\, United States
END:VEVENT
BEGIN:VEVENT
DTSTART;TZID=America/Los_Angeles:20260430T150000
DTEND;TZID=America/Los_Angeles:20260430T180000
DTSTAMP:20260420T024120
CREATED:20260401T170917Z
LAST-MODIFIED:20260417T215838Z
UID:22491-1777561200-1777572000@www.quintessentialwines.com
SUMMARY:Tia Linda’s demo
DESCRIPTION:
URL:https://www.quintessentialwines.com/event/tia-lindas-demo/
LOCATION:Microsoft Teams Meeting
END:VEVENT
BEGIN:VEVENT
DTSTART;TZID=America/New_York:20260430T170000
DTEND;TZID=America/New_York:20260430T210000
DTSTAMP:20260420T024120
CREATED:20260413T151639Z
LAST-MODIFIED:20260417T215838Z
UID:23454-1777568400-1777582800@www.quintessentialwines.com
SUMMARY:Tour d'Vines - MD Columbia Event
DESCRIPTION:
URL:https://www.quintessentialwines.com/event/tour-dvines-md-columbia-event/
LOCATION:Microsoft Teams Meeting
END:VEVENT
BEGIN:VEVENT
DTSTART;TZID=America/New_York:20260501T170000
DTEND;TZID=America/New_York:20260501T200000
DTSTAMP:20260420T024120
CREATED:20260406T165122Z
LAST-MODIFIED:20260417T215839Z
UID:22949-1777654800-1777665600@www.quintessentialwines.com
SUMMARY:Spring Tasting: Henry Harde’s
DESCRIPTION:
URL:https://www.quintessentialwines.com/event/spring-tasting-henry-hardes/
END:VEVENT
BEGIN:VEVENT
DTSTART;TZID=America/Chicago:20260502T150000
DTEND;TZID=America/Chicago:20260502T160000
DTSTAMP:20260420T024120
CREATED:20260408T142103Z
LAST-MODIFIED:20260417T215840Z
UID:23085-1777734000-1777737600@www.quintessentialwines.com
SUMMARY:Guard and Grace Pink and White Wine Event
DESCRIPTION:
URL:https://www.quintessentialwines.com/event/guard-and-grace-pink-and-white-wine-event/
LOCATION:Guard and Grace – Houston\, 500 Dallas St\, Houston\, TX\, 77002\, United States
END:VEVENT
BEGIN:VEVENT
DTSTART;TZID=America/Los_Angeles:20260508T180000
DTEND;TZID=America/Los_Angeles:20260508T210000
DTSTAMP:20260420T024120
CREATED:20260403T223754Z
LAST-MODIFIED:20260417T215840Z
UID:22706-1778263200-1778274000@www.quintessentialwines.com
SUMMARY:Los Altos Bubbly Stroll
DESCRIPTION:
URL:https://www.quintessentialwines.com/event/los-altos-bubbly-stroll/
LOCATION:Downtown Los Altos\, Los Altos\, CA\, United States
END:VEVENT
BEGIN:VEVENT
DTSTART;TZID=America/New_York:20260509T130000
DTEND;TZID=America/New_York:20260509T160000
DTSTAMP:20260420T024120
CREATED:20260320T060901Z
LAST-MODIFIED:20260417T215841Z
UID:21355-1778331600-1778342400@www.quintessentialwines.com
SUMMARY:Grand Store Tasting @ Star Wine & Spirits
DESCRIPTION:
URL:https://www.quintessentialwines.com/event/grand-store-tasting-star-wine-spirits/
LOCATION:Star Wines & Liquors\, 475 NY-17M\, Monroe\, 10950\, UNITED STATES
END:VEVENT
BEGIN:VEVENT
DTSTART;TZID=America/New_York:20260509T140000
DTEND;TZID=America/New_York:20260509T190000
DTSTAMP:20260420T024120
CREATED:20260320T060900Z
LAST-MODIFIED:20260417T215841Z
UID:21353-1778335200-1778353200@www.quintessentialwines.com
SUMMARY:Grand Store Tasting @ Kent W&S
DESCRIPTION:
URL:https://www.quintessentialwines.com/event/grand-store-tasting-kent-ws/
LOCATION:Kent Liquors\, 1100 NY-52\, Carmel\, 10512\, UNITED STATES
END:VEVENT
BEGIN:VEVENT
DTSTART;TZID=America/New_York:20260515T160000
DTEND;TZID=America/New_York:20260515T190000
DTSTAMP:20260420T024120
CREATED:20260401T185457Z
LAST-MODIFIED:20260417T215842Z
UID:22499-1778860800-1778871600@www.quintessentialwines.com
SUMMARY:In-Store Tasting: McGovern’s
DESCRIPTION:
URL:https://www.quintessentialwines.com/event/in-store-tasting-mcgoverns-5/
END:VEVENT
BEGIN:VEVENT
DTSTART;TZID=America/New_York:20260516T120000
DTEND;TZID=America/New_York:20260516T160000
DTSTAMP:20260420T024120
CREATED:20260320T060902Z
LAST-MODIFIED:20260417T215843Z
UID:21357-1778932800-1778947200@www.quintessentialwines.com
SUMMARY:Tasting @ Viscount W&L
DESCRIPTION:
URL:https://www.quintessentialwines.com/event/tasting-viscount-wl-2/
LOCATION:Viscount Wines & Liquor\, 1173 US Highway 9\, Wappingers Falls\, 12590\, UNITED STATES
END:VEVENT
BEGIN:VEVENT
DTSTART;TZID=America/New_York:20260522T150000
DTEND;TZID=America/New_York:20260522T173000
DTSTAMP:20260420T024120
CREATED:20260320T192108Z
LAST-MODIFIED:20260417T215843Z
UID:21434-1779462000-1779471000@www.quintessentialwines.com
SUMMARY:In-Store Tasting: Adega
DESCRIPTION:
URL:https://www.quintessentialwines.com/event/in-store-tasting-adega-2/
END:VEVENT
BEGIN:VEVENT
DTSTART;VALUE=DATE:20260530
DTEND;VALUE=DATE:20260531
DTSTAMP:20260420T024120
CREATED:20260202T105559Z
LAST-MODIFIED:20260417T215844Z
UID:20622-1780099200-1780185599@www.quintessentialwines.com
SUMMARY:BLACKHAWK CC Spring fling
DESCRIPTION:
URL:https://www.quintessentialwines.com/event/blackhawk-cc-spring-fling/
END:VEVENT
BEGIN:VEVENT
DTSTART;TZID=America/Los_Angeles:20260606T120000
DTEND;TZID=America/Los_Angeles:20260606T150000
DTSTAMP:20260420T024120
CREATED:20260324T004317Z
LAST-MODIFIED:20260417T215845Z
UID:21751-1780747200-1780758000@www.quintessentialwines.com
SUMMARY:Uncorked Wine Festival
DESCRIPTION:
URL:https://www.quintessentialwines.com/event/uncorked-wine-festival/
LOCATION:California Science Center – 700 Exposition Park Drive\, Los Angeles\, CA\, United States
END:VEVENT
BEGIN:VEVENT
DTSTART;TZID=America/New_York:20260626T150000
DTEND;TZID=America/New_York:20260626T180000
DTSTAMP:20260420T024120
CREATED:20260320T060857Z
LAST-MODIFIED:20260417T215845Z
UID:21349-1782486000-1782496800@www.quintessentialwines.com
SUMMARY:Tasting @ Consumer W&S
DESCRIPTION:
URL:https://www.quintessentialwines.com/event/tasting-consumer-ws/
LOCATION:Consumer’s Discount Wines & Liquors\, 88 Dunning Rd\, Middletown\, 10940\, UNITED STATES
END:VEVENT
BEGIN:VEVENT
DTSTART;TZID=America/Los_Angeles:20260714T170000
DTEND;TZID=America/Los_Angeles:20260714T210000
DTSTAMP:20260420T024120
CREATED:20260306T001531Z
LAST-MODIFIED:20260417T215846Z
UID:21172-1784048400-1784062800@www.quintessentialwines.com
SUMMARY:Janet Fletcher Cheese Class
DESCRIPTION:
URL:https://www.quintessentialwines.com/event/janet-fletcher-cheese-class-3/
LOCATION:Winston’s Cafe & Bakery\, 1517 3rd St\, Napa\, CA\, 94559-2808\, United States
END:VEVENT
BEGIN:VEVENT
DTSTART;VALUE=DATE:20260814
DTEND;VALUE=DATE:20260816
DTSTAMP:20260420T024120
CREATED:20260125T075138Z
LAST-MODIFIED:20260417T215847Z
UID:20580-1786665600-1786838399@www.quintessentialwines.com
SUMMARY:International Car Week Monterey
DESCRIPTION:
URL:https://www.quintessentialwines.com/event/international-car-week-monterey/
LOCATION:Bayonet Black Horse Golf Course; 1 McClure Way\, Seaside\, CA\, United States
END:VEVENT
BEGIN:VEVENT
DTSTART;TZID=America/Los_Angeles:20260915T170000
DTEND;TZID=America/Los_Angeles:20260915T210000
DTSTAMP:20260420T024120
CREATED:20260306T001533Z
LAST-MODIFIED:20260417T215847Z
UID:21173-1789491600-1789506000@www.quintessentialwines.com
SUMMARY:Janet Fletcher Cheese Class
DESCRIPTION:
URL:https://www.quintessentialwines.com/event/janet-fletcher-cheese-class-4/
LOCATION:Winston’s Cafe & Bakery\, 1517 3rd St\, Napa\, CA\, 94559-2808\, United States
END:VEVENT
BEGIN:VEVENT
DTSTART;TZID=America/Los_Angeles:20261020T170000
DTEND;TZID=America/Los_Angeles:20261020T210000
DTSTAMP:20260420T024120
CREATED:20260306T001534Z
LAST-MODIFIED:20260417T215848Z
UID:21174-1792515600-1792530000@www.quintessentialwines.com
SUMMARY:Janet Fletcher Cheese Class
DESCRIPTION:
URL:https://www.quintessentialwines.com/event/janet-fletcher-cheese-class-5/
LOCATION:Winston’s Cafe & Bakery\, 1517 3rd St\, Napa\, CA\, 94559-2808\, United States
END:VEVENT
BEGIN:VEVENT
DTSTART;TZID=America/New_York:20261121T120000
DTEND;TZID=America/New_York:20261121T160000
DTSTAMP:20260420T024120
CREATED:20260320T060905Z
LAST-MODIFIED:20260417T215849Z
UID:21358-1795262400-1795276800@www.quintessentialwines.com
SUMMARY:Thanksgiving Tasting @ Viscount
DESCRIPTION:
URL:https://www.quintessentialwines.com/event/thanksgiving-tasting-viscount/
LOCATION:Viscount Wines & Liquor\, 1173 US Highway 9\, Wappingers Falls\, 12590\, UNITED STATES
END:VEVENT
BEGIN:VEVENT
DTSTART;TZID=America/New_York:20261124T150000
DTEND;TZID=America/New_York:20261124T180000
DTSTAMP:20260420T024120
CREATED:20260320T060907Z
LAST-MODIFIED:20260417T215849Z
UID:21360-1795532400-1795543200@www.quintessentialwines.com
SUMMARY:Thanksgiving Tasting @ Miron
DESCRIPTION:
URL:https://www.quintessentialwines.com/event/thanksgiving-tasting-miron/
LOCATION:Miron Wine & Spirits\, 15 Coral Ln\, Kingston\, 12401-6105\, UNITED STATES
END:VEVENT
BEGIN:VEVENT
DTSTART;TZID=America/New_York:20261219T120000
DTEND;TZID=America/New_York:20261219T160000
DTSTAMP:20260420T024120
CREATED:20260320T060908Z
LAST-MODIFIED:20260417T215850Z
UID:21361-1797681600-1797696000@www.quintessentialwines.com
SUMMARY:Holiday Wine Tasting @ Viscount W&L
DESCRIPTION:
URL:https://www.quintessentialwines.com/event/holiday-wine-tasting-viscount-wl/
LOCATION:Viscount Wines & Liquor\, 1173 US Highway 9\, Wappingers Falls\, 12590\, UNITED STATES
END:VEVENT
END:VCALENDAR