BEGIN:VCALENDAR
VERSION:2.0
PRODID:-//Quintessential - ECPv6.15.20//NONSGML v1.0//EN
CALSCALE:GREGORIAN
METHOD:PUBLISH
X-WR-CALNAME:Quintessential
X-ORIGINAL-URL:https://www.quintessentialwines.com
X-WR-CALDESC:Events for Quintessential
REFRESH-INTERVAL;VALUE=DURATION:PT1H
X-Robots-Tag:noindex
X-PUBLISHED-TTL:PT1H
BEGIN:VTIMEZONE
TZID:America/Los_Angeles
BEGIN:DAYLIGHT
TZOFFSETFROM:-0800
TZOFFSETTO:-0700
TZNAME:PDT
DTSTART:20250309T100000
END:DAYLIGHT
BEGIN:STANDARD
TZOFFSETFROM:-0700
TZOFFSETTO:-0800
TZNAME:PST
DTSTART:20251102T090000
END:STANDARD
BEGIN:DAYLIGHT
TZOFFSETFROM:-0800
TZOFFSETTO:-0700
TZNAME:PDT
DTSTART:20260308T100000
END:DAYLIGHT
BEGIN:STANDARD
TZOFFSETFROM:-0700
TZOFFSETTO:-0800
TZNAME:PST
DTSTART:20261101T090000
END:STANDARD
BEGIN:DAYLIGHT
TZOFFSETFROM:-0800
TZOFFSETTO:-0700
TZNAME:PDT
DTSTART:20270314T100000
END:DAYLIGHT
BEGIN:STANDARD
TZOFFSETFROM:-0700
TZOFFSETTO:-0800
TZNAME:PST
DTSTART:20271107T090000
END:STANDARD
END:VTIMEZONE
BEGIN:VTIMEZONE
TZID:America/New_York
BEGIN:DAYLIGHT
TZOFFSETFROM:-0500
TZOFFSETTO:-0400
TZNAME:EDT
DTSTART:20250309T070000
END:DAYLIGHT
BEGIN:STANDARD
TZOFFSETFROM:-0400
TZOFFSETTO:-0500
TZNAME:EST
DTSTART:20251102T060000
END:STANDARD
BEGIN:DAYLIGHT
TZOFFSETFROM:-0500
TZOFFSETTO:-0400
TZNAME:EDT
DTSTART:20260308T070000
END:DAYLIGHT
BEGIN:STANDARD
TZOFFSETFROM:-0400
TZOFFSETTO:-0500
TZNAME:EST
DTSTART:20261101T060000
END:STANDARD
BEGIN:DAYLIGHT
TZOFFSETFROM:-0500
TZOFFSETTO:-0400
TZNAME:EDT
DTSTART:20270314T070000
END:DAYLIGHT
BEGIN:STANDARD
TZOFFSETFROM:-0400
TZOFFSETTO:-0500
TZNAME:EST
DTSTART:20271107T060000
END:STANDARD
END:VTIMEZONE
BEGIN:VEVENT
DTSTART;TZID=America/Los_Angeles:20260419T120000
DTEND;TZID=America/Los_Angeles:20260419T150000
DTSTAMP:20260420T040947
CREATED:20260406T153821Z
LAST-MODIFIED:20260417T215833Z
UID:22941-1776600000-1776610800@www.quintessentialwines.com
SUMMARY:Nugget Market #3 - Rocklin
DESCRIPTION:
URL:https://www.quintessentialwines.com/event/nugget-market-3-rocklin/
LOCATION:1051 Whitney Ranch Pkwy\, California City\, CA\, United States
END:VEVENT
BEGIN:VEVENT
DTSTART;TZID=America/Los_Angeles:20260418T163000
DTEND;TZID=America/Los_Angeles:20260418T200000
DTSTAMP:20260420T040947
CREATED:20260413T170955Z
LAST-MODIFIED:20260417T215832Z
UID:23467-1776529800-1776542400@www.quintessentialwines.com
SUMMARY:MORAGA CC WINE FAIR
DESCRIPTION:
URL:https://www.quintessentialwines.com/event/moraga-cc-wine-fair/
END:VEVENT
BEGIN:VEVENT
DTSTART;TZID=America/Los_Angeles:20260418T140000
DTEND;TZID=America/Los_Angeles:20260418T170000
DTSTAMP:20260420T040947
CREATED:20260226T175245Z
LAST-MODIFIED:20260417T215832Z
UID:21072-1776520800-1776531600@www.quintessentialwines.com
SUMMARY:Willow Glen Spring Wine Walk
DESCRIPTION:
URL:https://www.quintessentialwines.com/event/willow-glen-spring-wine-walk/
END:VEVENT
BEGIN:VEVENT
DTSTART;TZID=America/New_York:20260418T130000
DTEND;TZID=America/New_York:20260418T170000
DTSTAMP:20260420T040947
CREATED:20260413T155338Z
LAST-MODIFIED:20260417T215830Z
UID:23460-1776517200-1776531600@www.quintessentialwines.com
SUMMARY:Eggs and Kegs
DESCRIPTION:
URL:https://www.quintessentialwines.com/event/eggs-and-kegs/
LOCATION:5521 Chamblee Dunwoody Rd\, Atlanta\, GA\, United States
END:VEVENT
BEGIN:VEVENT
DTSTART;TZID=America/New_York:20260418T130000
DTEND;TZID=America/New_York:20260418T160000
DTSTAMP:20260420T040947
CREATED:20260220T161303Z
LAST-MODIFIED:20260417T215831Z
UID:20929-1776517200-1776528000@www.quintessentialwines.com
SUMMARY:Grand Tasting @ Shoprite Liquors
DESCRIPTION:
URL:https://www.quintessentialwines.com/event/grand-tasting-shoprite-liquors/
LOCATION:ShopRite Liquors of Pearl River\, 46 N Middletown Rd\, Pearl River\, 10965\, UNITED STATES
END:VEVENT
END:VCALENDAR